BEGIN:VCALENDAR
VERSION:2.0
PRODID:-//Holy Trinity Church, Waterhead, Oldham - ECPv4.6//NONSGML v1.0//EN
CALSCALE:GREGORIAN
METHOD:PUBLISH
X-WR-CALNAME:Holy Trinity Church, Waterhead, Oldham
X-ORIGINAL-URL:http://holytrinitywaterhead.co.uk
X-WR-CALDESC:Events for Holy Trinity Church, Waterhead, Oldham
BEGIN:VEVENT
DTSTART;TZID=UTC+0:20180908T130000
DTEND;TZID=UTC+0:20180908T150000
DTSTAMP:20260426T032053
CREATED:20180810T125206Z
LAST-MODIFIED:20180810T125236Z
UID:3329-1536411600-1536418800@holytrinitywaterhead.co.uk
SUMMARY:Sponsored walk
DESCRIPTION:A short sponsored walk for everyone. We meet at the Parish Hall on Waterworks Road\, and walk to our sister Church of St Barnabas in Clarksfield (OL4 1NL). \nFollowing refreshments\, we return to Waterhead Parish Hall. \nThe total distance is a little under 2 miles. Please join us for half the distance if you prefer. \nThe end time is approximate. \n
URL:http://holytrinitywaterhead.co.uk/event/sponsored-walk/
LOCATION:Church Street East\, Waterhead\, Oldham\, Lancashire\, OL4 2JQ\, United Kingdom
END:VEVENT
END:VCALENDAR